BEGIN:VCALENDAR
VERSION:2.0
PRODID:icalendar-ruby
CALSCALE:GREGORIAN
BEGIN:VEVENT
DTSTAMP:20260423T111215Z
UID:6f4feb7d-7151-4125-98f8-0084de6fb33c
DTSTART;VALUE=DATE:20211118
DESCRIPTION:Property ID# 520493\, Locatoin: Harcourts Auction Rooms\, Coast
 lands Parade\, Paraparaumu.\, Time: 12:00PM
SUMMARY:Auction for 
END:VEVENT
END:VCALENDAR
