BEGIN:VCALENDAR
VERSION:2.0
PRODID:icalendar-ruby
CALSCALE:GREGORIAN
BEGIN:VEVENT
DTSTAMP:20260419T194818Z
UID:0399f1d3-9e9b-4baa-b99f-f8a9c0d254c3
DTSTART;VALUE=DATE:20210218
DESCRIPTION:Property ID# 500453\, Locatoin: Harcourts Auction Rooms\, Coast
 lands Parade\, Paraparaumu.\, Time: 12:00PM
SUMMARY:Auction for 
END:VEVENT
END:VCALENDAR
