BEGIN:VCALENDAR
VERSION:2.0
PRODID:icalendar-ruby
CALSCALE:GREGORIAN
BEGIN:VEVENT
DTSTAMP:20260423T091803Z
UID:c26b1f45-4b82-427d-b850-7c5ed5ba6ec2
DTSTART;VALUE=DATE:20191031
DESCRIPTION:Property ID# 464086\, Locatoin: Ray White Johnsonville\, 20 Moo
 refield Road\, Time: 1:00PM
SUMMARY:Auction for 
END:VEVENT
END:VCALENDAR
